BEGIN:VCALENDAR
VERSION:2.0
PRODID:-//Bradford Academy - ECPv6.15.20//NONSGML v1.0//EN
CALSCALE:GREGORIAN
METHOD:PUBLISH
X-ORIGINAL-URL:https://bradfordacademy.org
X-WR-CALDESC:Events for Bradford Academy
REFRESH-INTERVAL;VALUE=DURATION:PT1H
X-Robots-Tag:noindex
X-PUBLISHED-TTL:PT1H
BEGIN:VTIMEZONE
TZID:America/New_York
BEGIN:DAYLIGHT
TZOFFSETFROM:-0500
TZOFFSETTO:-0400
TZNAME:EDT
DTSTART:20250309T070000
END:DAYLIGHT
BEGIN:STANDARD
TZOFFSETFROM:-0400
TZOFFSETTO:-0500
TZNAME:EST
DTSTART:20251102T060000
END:STANDARD
BEGIN:DAYLIGHT
TZOFFSETFROM:-0500
TZOFFSETTO:-0400
TZNAME:EDT
DTSTART:20260308T070000
END:DAYLIGHT
BEGIN:STANDARD
TZOFFSETFROM:-0400
TZOFFSETTO:-0500
TZNAME:EST
DTSTART:20261101T060000
END:STANDARD
BEGIN:DAYLIGHT
TZOFFSETFROM:-0500
TZOFFSETTO:-0400
TZNAME:EDT
DTSTART:20270314T070000
END:DAYLIGHT
BEGIN:STANDARD
TZOFFSETFROM:-0400
TZOFFSETTO:-0500
TZNAME:EST
DTSTART:20271107T060000
END:STANDARD
END:VTIMEZONE
BEGIN:VEVENT
DTSTART;VALUE=DATE:20260420
DTEND;VALUE=DATE:20260422
DTSTAMP:20260424T041422
CREATED:20260220T155311Z
LAST-MODIFIED:20260421T231243Z
UID:92224-1776643200-1776815999@bradfordacademy.org
SUMMARY:11th grade:  Trip to Colonial Williamsburg
DESCRIPTION:
URL:https://bradfordacademy.org/event/11th-grade-trip-to-colonial-williamsburg/
END:VEVENT
BEGIN:VEVENT
DTSTART;VALUE=DATE:20260423
DTEND;VALUE=DATE:20260424
DTSTAMP:20260424T041422
CREATED:20260304T202622Z
LAST-MODIFIED:20260423T235616Z
UID:92535-1776902400-1776988799@bradfordacademy.org
SUMMARY:Art Class:  Field trip to NC Museum of Art
DESCRIPTION:
URL:https://bradfordacademy.org/event/art-class-field-trip-to-nc-museum-of-art/
END:VEVENT
BEGIN:VEVENT
DTSTART;TZID=America/New_York:20260423T074500
DTEND;TZID=America/New_York:20260423T080000
DTSTAMP:20260424T041422
CREATED:20250926T232539Z
LAST-MODIFIED:20260423T111049Z
UID:87720-1776930300-1776931200@bradfordacademy.org
SUMMARY:ARCHER PRAYER GROUP:  Lower School - all parents welcome
DESCRIPTION:
URL:https://bradfordacademy.org/event/archer-prayer-group-lower-school-all-parents-welcome-32/
END:VEVENT
BEGIN:VEVENT
DTSTART;TZID=America/New_York:20260423T183000
DTEND;TZID=America/New_York:20260423T193000
DTSTAMP:20260424T041422
CREATED:20250926T232540Z
LAST-MODIFIED:20260423T225430Z
UID:87722-1776969000-1776972600@bradfordacademy.org
SUMMARY:Lower School:  Bradford Night for K  - 2nd Grades
DESCRIPTION:
URL:https://bradfordacademy.org/event/lower-school-bradford-night-for-k-1st-grades/
END:VEVENT
BEGIN:VEVENT
DTSTART;VALUE=DATE:20260424
DTEND;VALUE=DATE:20260425
DTSTAMP:20260424T041422
CREATED:20260327T165628Z
LAST-MODIFIED:20260424T080912Z
UID:92935-1776988800-1777075199@bradfordacademy.org
SUMMARY:5th grade:  Monticello
DESCRIPTION:
URL:https://bradfordacademy.org/event/5th-grade-monticello/
END:VEVENT
BEGIN:VEVENT
DTSTART;TZID=America/New_York:20260424T091500
DTEND;TZID=America/New_York:20260424T133000
DTSTAMP:20260424T041422
CREATED:20260327T192313Z
LAST-MODIFIED:20260424T080912Z
UID:92948-1777022100-1777037400@bradfordacademy.org
SUMMARY:1st FIELD TRIP:  Cane Creek
DESCRIPTION:
URL:https://bradfordacademy.org/event/1st-field-trip-cane-creek/
END:VEVENT
END:VCALENDAR