BEGIN:VCALENDAR
VERSION:2.0
PRODID:-//Bradford Academy - ECPv6.15.20//NONSGML v1.0//EN
CALSCALE:GREGORIAN
METHOD:PUBLISH
X-WR-CALNAME:Bradford Academy
X-ORIGINAL-URL:https://bradfordacademy.org
X-WR-CALDESC:Events for Bradford Academy
REFRESH-INTERVAL;VALUE=DURATION:PT1H
X-Robots-Tag:noindex
X-PUBLISHED-TTL:PT1H
BEGIN:VTIMEZONE
TZID:America/New_York
BEGIN:DAYLIGHT
TZOFFSETFROM:-0500
TZOFFSETTO:-0400
TZNAME:EDT
DTSTART:20250309T070000
END:DAYLIGHT
BEGIN:STANDARD
TZOFFSETFROM:-0400
TZOFFSETTO:-0500
TZNAME:EST
DTSTART:20251102T060000
END:STANDARD
BEGIN:DAYLIGHT
TZOFFSETFROM:-0500
TZOFFSETTO:-0400
TZNAME:EDT
DTSTART:20260308T070000
END:DAYLIGHT
BEGIN:STANDARD
TZOFFSETFROM:-0400
TZOFFSETTO:-0500
TZNAME:EST
DTSTART:20261101T060000
END:STANDARD
BEGIN:DAYLIGHT
TZOFFSETFROM:-0500
TZOFFSETTO:-0400
TZNAME:EDT
DTSTART:20270314T070000
END:DAYLIGHT
BEGIN:STANDARD
TZOFFSETFROM:-0400
TZOFFSETTO:-0500
TZNAME:EST
DTSTART:20271107T060000
END:STANDARD
END:VTIMEZONE
BEGIN:VEVENT
DTSTART;TZID=America/New_York:20260427T160000
DTEND;TZID=America/New_York:20260427T173000
DTSTAMP:20260421T082724
CREATED:20260224T135316Z
LAST-MODIFIED:20260421T112410Z
UID:92328-1777305600-1777311000@bradfordacademy.org
SUMMARY:Varsity Boys Tennis @ HOME
DESCRIPTION:vs Carolina Friends School
URL:https://bradfordacademy.org/event/varsity-boys-tennis-home-2/
LOCATION:Mebane Tennis Courts\, 406 S 2nd St\, Mebane\, NC\, United States
GEO:36.093714;-79.272645
X-APPLE-STRUCTURED-LOCATION;VALUE=URI;X-ADDRESS=Mebane Tennis Courts 406 S 2nd St Mebane NC United States;X-APPLE-RADIUS=500;X-TITLE=406 S 2nd St:geo:-79.272645,36.093714
END:VEVENT
BEGIN:VEVENT
DTSTART;TZID=America/New_York:20260428T153000
DTEND;TZID=America/New_York:20260428T170000
DTSTAMP:20260421T082724
CREATED:20260224T135316Z
LAST-MODIFIED:20260421T112410Z
UID:92330-1777390200-1777395600@bradfordacademy.org
SUMMARY:Varsity Girls Soccer @ HOME (Mebane Community Park)
DESCRIPTION:vs Hawbridge School
URL:https://bradfordacademy.org/event/varsity-girls-soccer-home-mebane-community-park/
LOCATION:Mebane Community Park\, 627 W Center St\, Mebane\, NC\, United States
GEO:36.098243;-79.277353
X-APPLE-STRUCTURED-LOCATION;VALUE=URI;X-ADDRESS=Mebane Community Park 627 W Center St Mebane NC United States;X-APPLE-RADIUS=500;X-TITLE=627 W Center St:geo:-79.277353,36.098243
END:VEVENT
BEGIN:VEVENT
DTSTART;VALUE=DATE:20260430
DTEND;VALUE=DATE:20260501
DTSTAMP:20260421T082724
CREATED:20250926T232540Z
LAST-MODIFIED:20260421T112411Z
UID:87725-1777507200-1777593599@bradfordacademy.org
SUMMARY:Upper School:  Bradford Games (7th - 12th)
DESCRIPTION:
URL:https://bradfordacademy.org/event/upper-school-bradford-games-7th-12th/
END:VEVENT
BEGIN:VEVENT
DTSTART;TZID=America/New_York:20260430T074500
DTEND;TZID=America/New_York:20260430T080000
DTSTAMP:20260421T082724
CREATED:20250926T232540Z
LAST-MODIFIED:20260421T112410Z
UID:87723-1777535100-1777536000@bradfordacademy.org
SUMMARY:ARCHER PRAYER GROUP:  Lower School - all parents welcome
DESCRIPTION:
URL:https://bradfordacademy.org/event/archer-prayer-group-lower-school-all-parents-welcome-33/
END:VEVENT
BEGIN:VEVENT
DTSTART;VALUE=DATE:20260501
DTEND;VALUE=DATE:20260502
DTSTAMP:20260421T082724
CREATED:20250926T232540Z
LAST-MODIFIED:20260421T112411Z
UID:87724-1777593600-1777679999@bradfordacademy.org
SUMMARY:TEACHER WORKDAY:  No School
DESCRIPTION:
URL:https://bradfordacademy.org/event/teacher-workday-no-school-4/
END:VEVENT
BEGIN:VEVENT
DTSTART;TZID=America/New_York:20260501T153000
DTEND;TZID=America/New_York:20260501T170000
DTSTAMP:20260421T082724
CREATED:20260224T135316Z
LAST-MODIFIED:20260421T112411Z
UID:92331-1777649400-1777654800@bradfordacademy.org
SUMMARY:Varsity Girls Soccer @ HOME
DESCRIPTION:vs Community Baptist Christian School
URL:https://bradfordacademy.org/event/varsity-girls-soccer-home-9/
LOCATION:Mebane Arts & Community Center\, 633 Corregidor St\, Mebane\, NC\, United States
GEO:36.085527;-79.283441
X-APPLE-STRUCTURED-LOCATION;VALUE=URI;X-ADDRESS=Mebane Arts & Community Center 633 Corregidor St Mebane NC United States;X-APPLE-RADIUS=500;X-TITLE=633 Corregidor St:geo:-79.283441,36.085527
END:VEVENT
END:VCALENDAR