BEGIN:VCALENDAR
VERSION:2.0
PRODID:-//Bradford Academy - ECPv6.15.20//NONSGML v1.0//EN
CALSCALE:GREGORIAN
METHOD:PUBLISH
X-WR-CALNAME:Bradford Academy
X-ORIGINAL-URL:https://bradfordacademy.org
X-WR-CALDESC:Events for Bradford Academy
REFRESH-INTERVAL;VALUE=DURATION:PT1H
X-Robots-Tag:noindex
X-PUBLISHED-TTL:PT1H
BEGIN:VTIMEZONE
TZID:America/New_York
BEGIN:DAYLIGHT
TZOFFSETFROM:-0500
TZOFFSETTO:-0400
TZNAME:EDT
DTSTART:20250309T070000
END:DAYLIGHT
BEGIN:STANDARD
TZOFFSETFROM:-0400
TZOFFSETTO:-0500
TZNAME:EST
DTSTART:20251102T060000
END:STANDARD
BEGIN:DAYLIGHT
TZOFFSETFROM:-0500
TZOFFSETTO:-0400
TZNAME:EDT
DTSTART:20260308T070000
END:DAYLIGHT
BEGIN:STANDARD
TZOFFSETFROM:-0400
TZOFFSETTO:-0500
TZNAME:EST
DTSTART:20261101T060000
END:STANDARD
BEGIN:DAYLIGHT
TZOFFSETFROM:-0500
TZOFFSETTO:-0400
TZNAME:EDT
DTSTART:20270314T070000
END:DAYLIGHT
BEGIN:STANDARD
TZOFFSETFROM:-0400
TZOFFSETTO:-0500
TZNAME:EST
DTSTART:20271107T060000
END:STANDARD
END:VTIMEZONE
BEGIN:VEVENT
DTSTART;TZID=America/New_York:20260416T123000
DTEND;TZID=America/New_York:20260416T144500
DTSTAMP:20260421T113450
CREATED:20260115T171142Z
LAST-MODIFIED:20260412T221008Z
UID:91226-1776342600-1776350700@bradfordacademy.org
SUMMARY:Senior Thesis Adjudication
DESCRIPTION:
URL:https://bradfordacademy.org/event/senior-thesis-adjudication-8/
END:VEVENT
BEGIN:VEVENT
DTSTART;TZID=America/New_York:20260416T074500
DTEND;TZID=America/New_York:20260416T080000
DTSTAMP:20260421T113450
CREATED:20250926T232537Z
LAST-MODIFIED:20260412T221008Z
UID:87715-1776325500-1776326400@bradfordacademy.org
SUMMARY:ARCHER PRAYER GROUP:  Lower School - all parents welcome
DESCRIPTION:
URL:https://bradfordacademy.org/event/archer-prayer-group-lower-school-all-parents-welcome-12/
END:VEVENT
BEGIN:VEVENT
DTSTART;TZID=America/New_York:20260415T123000
DTEND;TZID=America/New_York:20260415T144500
DTSTAMP:20260421T113450
CREATED:20260115T171142Z
LAST-MODIFIED:20260412T221008Z
UID:91225-1776256200-1776264300@bradfordacademy.org
SUMMARY:Senior Thesis Adjudication
DESCRIPTION:
URL:https://bradfordacademy.org/event/senior-thesis-adjudication-7/
END:VEVENT
BEGIN:VEVENT
DTSTART;VALUE=DATE:20260415
DTEND;VALUE=DATE:20260416
DTSTAMP:20260421T113450
CREATED:20260327T192312Z
LAST-MODIFIED:20260412T221008Z
UID:92947-1776211200-1776297599@bradfordacademy.org
SUMMARY:DEADLINE:  Renew NCOS
DESCRIPTION:
URL:https://bradfordacademy.org/event/deadline-renew-ncos/
END:VEVENT
BEGIN:VEVENT
DTSTART;TZID=America/New_York:20260414T123000
DTEND;TZID=America/New_York:20260414T144500
DTSTAMP:20260421T113450
CREATED:20260115T171142Z
LAST-MODIFIED:20260412T221008Z
UID:91224-1776169800-1776177900@bradfordacademy.org
SUMMARY:Senior Thesis Adjudication
DESCRIPTION:
URL:https://bradfordacademy.org/event/senior-thesis-adjudication-5/
END:VEVENT
BEGIN:VEVENT
DTSTART;TZID=America/New_York:20260413T183000
DTEND;TZID=America/New_York:20260413T193000
DTSTAMP:20260421T113450
CREATED:20260327T192312Z
LAST-MODIFIED:20260412T221008Z
UID:92946-1776105000-1776108600@bradfordacademy.org
SUMMARY:Athletics Vision Meeting:  Parents of 3rd - 6th grade students
DESCRIPTION:Parents of 3rd – 6th grade students are invited to hear about plans for athletics program moving forward.    The meeting will be at the Upper School Campus auditorium.
URL:https://bradfordacademy.org/event/athletics-vision-meeting-parents-of-3rd-6th-grade-students/
LOCATION:301 S Third St\, Mebane\, NC\, United States
GEO:36.087114;-79.306093
END:VEVENT
BEGIN:VEVENT
DTSTART;TZID=America/New_York:20260413T123000
DTEND;TZID=America/New_York:20260413T144500
DTSTAMP:20260421T113450
CREATED:20250612T171031Z
LAST-MODIFIED:20260412T221008Z
UID:83589-1776083400-1776091500@bradfordacademy.org
SUMMARY:Senior Thesis Adjudication
DESCRIPTION:
URL:https://bradfordacademy.org/event/senior-thesis-adjudication/
END:VEVENT
BEGIN:VEVENT
DTSTART;TZID=America/New_York:20260409T074500
DTEND;TZID=America/New_York:20260409T080000
DTSTAMP:20260421T113450
CREATED:20250905T142436Z
LAST-MODIFIED:20260409T115514Z
UID:86603-1775720700-1775721600@bradfordacademy.org
SUMMARY:ARCHER PRAYER GROUP:  Lower School - all parents welcome
DESCRIPTION:
URL:https://bradfordacademy.org/event/archer-prayer-group-lower-school-all-parents-welcome-31/
END:VEVENT
BEGIN:VEVENT
DTSTART;VALUE=DATE:20260406
DTEND;VALUE=DATE:20260407
DTSTAMP:20260421T113450
CREATED:20250512T194022Z
LAST-MODIFIED:20260406T231223Z
UID:82237-1775433600-1775519999@bradfordacademy.org
SUMMARY:SCHOOL CLOSED:  Easter Monday
DESCRIPTION:
URL:https://bradfordacademy.org/event/school-closed-easter-monday-2/
END:VEVENT
BEGIN:VEVENT
DTSTART;VALUE=DATE:20260403
DTEND;VALUE=DATE:20260404
DTSTAMP:20260421T113450
CREATED:20250512T194022Z
LAST-MODIFIED:20260330T113814Z
UID:82236-1775174400-1775260799@bradfordacademy.org
SUMMARY:NO SCHOOL:  Good Friday
DESCRIPTION:
URL:https://bradfordacademy.org/event/no-school-good-friday-2/
END:VEVENT
BEGIN:VEVENT
DTSTART;TZID=America/New_York:20260402T160000
DTEND;TZID=America/New_York:20260402T173000
DTSTAMP:20260421T113450
CREATED:20260224T135315Z
LAST-MODIFIED:20260330T113814Z
UID:92324-1775145600-1775151000@bradfordacademy.org
SUMMARY:Time TBD: Varsity Girls Soccer @ Grace Christian Academy
DESCRIPTION:
URL:https://bradfordacademy.org/event/time-tbd-varsity-girls-soccer-grace-christian-academy/
END:VEVENT
BEGIN:VEVENT
DTSTART;TZID=America/New_York:20260402T080000
DTEND;TZID=America/New_York:20260402T090000
DTSTAMP:20260421T113450
CREATED:20250909T135543Z
LAST-MODIFIED:20260330T113814Z
UID:87024-1775116800-1775120400@bradfordacademy.org
SUMMARY:Coffee and Conversation with Mr. Johnston
DESCRIPTION:
URL:https://bradfordacademy.org/event/coffee-and-conversation-with-mr-johnston-7/
LOCATION:Traveling Addiction coffee+smoothies\, 401 E Center St\, Mebane\, NC\, United States
GEO:36.094293;-79.260356
X-APPLE-STRUCTURED-LOCATION;VALUE=URI;X-ADDRESS=Traveling Addiction coffee+smoothies 401 E Center St Mebane NC United States;X-APPLE-RADIUS=500;X-TITLE=401 E Center St:geo:-79.260356,36.094293
END:VEVENT
BEGIN:VEVENT
DTSTART;TZID=America/New_York:20260402T074500
DTEND;TZID=America/New_York:20260402T080000
DTSTAMP:20260421T113450
CREATED:20250905T142435Z
LAST-MODIFIED:20260330T113814Z
UID:86602-1775115900-1775116800@bradfordacademy.org
SUMMARY:ARCHER PRAYER GROUP:  Lower School - all parents welcome
DESCRIPTION:
URL:https://bradfordacademy.org/event/archer-prayer-group-lower-school-all-parents-welcome-30/
END:VEVENT
BEGIN:VEVENT
DTSTART;VALUE=DATE:20260401
DTEND;VALUE=DATE:20260402
DTSTAMP:20260421T113450
CREATED:20260327T192311Z
LAST-MODIFIED:20260330T113814Z
UID:92944-1775001600-1775087999@bradfordacademy.org
SUMMARY:DEADLINE:  Order Yearbooks!
DESCRIPTION:Order Yearbooks Here
URL:https://bradfordacademy.org/event/deadline-order-yearbooks/
END:VEVENT
BEGIN:VEVENT
DTSTART;TZID=America/New_York:20260331T160000
DTEND;TZID=America/New_York:20260331T173000
DTSTAMP:20260421T113450
CREATED:20260224T135314Z
LAST-MODIFIED:20260330T113814Z
UID:92323-1774972800-1774978200@bradfordacademy.org
SUMMARY:Varsity Girls Soccer @ Carolina Friends School
DESCRIPTION:
URL:https://bradfordacademy.org/event/varsity-girls-soccer-carolina-friends-school/
END:VEVENT
BEGIN:VEVENT
DTSTART;TZID=America/New_York:20260327T153000
DTEND;TZID=America/New_York:20260327T170000
DTSTAMP:20260421T113450
CREATED:20260224T135314Z
LAST-MODIFIED:20260327T202416Z
UID:92322-1774625400-1774630800@bradfordacademy.org
SUMMARY:Varsity Girls Soccer @ HOME
DESCRIPTION:vs Haw River Christian Academy
URL:https://bradfordacademy.org/event/varsity-girls-soccer-home-7/
LOCATION:Mebane Arts & Community Center\, 633 Corregidor St\, Mebane\, NC\, United States
GEO:36.085527;-79.283441
X-APPLE-STRUCTURED-LOCATION;VALUE=URI;X-ADDRESS=Mebane Arts & Community Center 633 Corregidor St Mebane NC United States;X-APPLE-RADIUS=500;X-TITLE=633 Corregidor St:geo:-79.283441,36.085527
END:VEVENT
BEGIN:VEVENT
DTSTART;TZID=America/New_York:20260327T120000
DTEND;TZID=America/New_York:20260327T150000
DTSTAMP:20260421T113450
CREATED:20250612T171030Z
LAST-MODIFIED:20260327T165626Z
UID:83584-1774612800-1774623600@bradfordacademy.org
SUMMARY:Quo Vadis:  4th Grade (visiting Upper School)
DESCRIPTION:
URL:https://bradfordacademy.org/event/quo-vadis-4th-grade-visiting-upper-school/
END:VEVENT
BEGIN:VEVENT
DTSTART;TZID=America/New_York:20260326T074500
DTEND;TZID=America/New_York:20260326T080000
DTSTAMP:20260421T113450
CREATED:20250905T142435Z
LAST-MODIFIED:20260320T092315Z
UID:86601-1774511100-1774512000@bradfordacademy.org
SUMMARY:ARCHER PRAYER GROUP:  Lower School - all parents welcome
DESCRIPTION:
URL:https://bradfordacademy.org/event/archer-prayer-group-lower-school-all-parents-welcome-29/
END:VEVENT
BEGIN:VEVENT
DTSTART;TZID=America/New_York:20260325T090000
DTEND;TZID=America/New_York:20260325T123000
DTSTAMP:20260421T113450
CREATED:20260220T145620Z
LAST-MODIFIED:20260320T092315Z
UID:92221-1774429200-1774441800@bradfordacademy.org
SUMMARY:2nd grade Field Trip:  Animal Park at Conservators Center
DESCRIPTION:
URL:https://bradfordacademy.org/event/2nd-grade-field-trip-animal-park-at-conservators-center/
END:VEVENT
BEGIN:VEVENT
DTSTART;VALUE=DATE:20260316
DTEND;VALUE=DATE:20260321
DTSTAMP:20260421T113450
CREATED:20250512T194022Z
LAST-MODIFIED:20260320T092315Z
UID:82235-1773619200-1774051199@bradfordacademy.org
SUMMARY:SPRING BREAK
DESCRIPTION:
URL:https://bradfordacademy.org/event/spring-break-2/
END:VEVENT
BEGIN:VEVENT
DTSTART;TZID=America/New_York:20260313T153000
DTEND;TZID=America/New_York:20260313T170000
DTSTAMP:20260421T113450
CREATED:20260224T135314Z
LAST-MODIFIED:20260313T194115Z
UID:92321-1773415800-1773421200@bradfordacademy.org
SUMMARY:CANCELLED: Varsity Girls Soccer @ HOME
DESCRIPTION:vs Friendship Christian
URL:https://bradfordacademy.org/event/varsity-girls-soccer-home-6/
LOCATION:Mebane Arts & Community Center\, 633 Corregidor St\, Mebane\, NC\, United States
GEO:36.085527;-79.283441
X-APPLE-STRUCTURED-LOCATION;VALUE=URI;X-ADDRESS=Mebane Arts & Community Center 633 Corregidor St Mebane NC United States;X-APPLE-RADIUS=500;X-TITLE=633 Corregidor St:geo:-79.283441,36.085527
END:VEVENT
BEGIN:VEVENT
DTSTART;VALUE=DATE:20260313
DTEND;VALUE=DATE:20260314
DTSTAMP:20260421T113450
CREATED:20260204T202619Z
LAST-MODIFIED:20260313T235517Z
UID:91887-1773360000-1773446399@bradfordacademy.org
SUMMARY:FIELD TRIP:  4th to Old Salem
DESCRIPTION:
URL:https://bradfordacademy.org/event/field-trip-4th-to-old-salem/
END:VEVENT
BEGIN:VEVENT
DTSTART;VALUE=DATE:20260313
DTEND;VALUE=DATE:20260314
DTSTAMP:20260421T113450
CREATED:20250512T194021Z
LAST-MODIFIED:20260313T235516Z
UID:82234-1773360000-1773446399@bradfordacademy.org
SUMMARY:End of 3rd Quarter
DESCRIPTION:
URL:https://bradfordacademy.org/event/end-of-3rd-quarter-2/
END:VEVENT
BEGIN:VEVENT
DTSTART;TZID=America/New_York:20260312T190000
DTEND;TZID=America/New_York:20260312T200000
DTSTAMP:20260421T113450
CREATED:20250612T171029Z
LAST-MODIFIED:20260312T225720Z
UID:83579-1773342000-1773345600@bradfordacademy.org
SUMMARY:Upper School:  9th - 12th Performing Arts Night
DESCRIPTION:
URL:https://bradfordacademy.org/event/upper-school-9th-12th-performing-arts-night/
END:VEVENT
BEGIN:VEVENT
DTSTART;TZID=America/New_York:20260312T074500
DTEND;TZID=America/New_York:20260312T080000
DTSTAMP:20260421T113450
CREATED:20250905T142434Z
LAST-MODIFIED:20260312T112314Z
UID:86599-1773301500-1773302400@bradfordacademy.org
SUMMARY:ARCHER PRAYER GROUP:  Lower School - all parents welcome
DESCRIPTION:
URL:https://bradfordacademy.org/event/archer-prayer-group-lower-school-all-parents-welcome-27/
END:VEVENT
BEGIN:VEVENT
DTSTART;VALUE=DATE:20260311
DTEND;VALUE=DATE:20260312
DTSTAMP:20260421T113450
CREATED:20250612T171029Z
LAST-MODIFIED:20260311T222409Z
UID:83577-1773187200-1773273599@bradfordacademy.org
SUMMARY:Lower School:  Soccer tournament
DESCRIPTION:
URL:https://bradfordacademy.org/event/lower-school-soccer-tournament/
LOCATION:Mebane Arts & Community Center\, 633 Corregidor St\, Mebane\, NC\, United States
GEO:36.085527;-79.283441
X-APPLE-STRUCTURED-LOCATION;VALUE=URI;X-ADDRESS=Mebane Arts & Community Center 633 Corregidor St Mebane NC United States;X-APPLE-RADIUS=500;X-TITLE=633 Corregidor St:geo:-79.283441,36.085527
END:VEVENT
BEGIN:VEVENT
DTSTART;TZID=America/New_York:20260310T160000
DTEND;TZID=America/New_York:20260310T173000
DTSTAMP:20260421T113450
CREATED:20260224T135313Z
LAST-MODIFIED:20260310T203813Z
UID:92320-1773158400-1773163800@bradfordacademy.org
SUMMARY:Varsity Girls Soccer @ Crossroads Christian
DESCRIPTION:
URL:https://bradfordacademy.org/event/varsity-girls-soccer-crossroads-christian-2/
LOCATION:Crossroads Christian School\, 1801 Old County Home Rd\, South Henderson\, NC\, United States
GEO:36.287188;-78.436517
X-APPLE-STRUCTURED-LOCATION;VALUE=URI;X-ADDRESS=Crossroads Christian School 1801 Old County Home Rd South Henderson NC United States;X-APPLE-RADIUS=500;X-TITLE=1801 Old County Home Rd:geo:-78.436517,36.287188
END:VEVENT
BEGIN:VEVENT
DTSTART;VALUE=DATE:20260309
DTEND;VALUE=DATE:20260320
DTSTAMP:20260421T113450
CREATED:20251118T175404Z
LAST-MODIFIED:20260319T235619Z
UID:89384-1773014400-1773964799@bradfordacademy.org
SUMMARY:SENIOR TRIP:  Rome
DESCRIPTION:
URL:https://bradfordacademy.org/event/senior-trip-rome/
END:VEVENT
BEGIN:VEVENT
DTSTART;TZID=America/New_York:20260306T170000
DTEND;TZID=America/New_York:20260306T183000
DTSTAMP:20260421T113450
CREATED:20260224T135313Z
LAST-MODIFIED:20260306T231011Z
UID:92318-1772816400-1772821800@bradfordacademy.org
SUMMARY:Varsity Girls Soccer @ Community Baptist Christian School
DESCRIPTION:
URL:https://bradfordacademy.org/event/varsity-girls-soccer-community-baptist-christian-school/
END:VEVENT
BEGIN:VEVENT
DTSTART;TZID=America/New_York:20260306T130000
DTEND;TZID=America/New_York:20260306T150000
DTSTAMP:20260421T113450
CREATED:20260205T181219Z
LAST-MODIFIED:20260306T195316Z
UID:91908-1772802000-1772809200@bradfordacademy.org
SUMMARY:5th Grade Wax Museum
DESCRIPTION:
URL:https://bradfordacademy.org/event/5th-grade-wax-museum/
END:VEVENT
END:VCALENDAR